View In:
ArcGIS JavaScript
ArcGIS Online Map Viewer
ArcGIS Earth
ArcMap
View Footprint In:
ArcGIS Online Map Viewer
Service Description: Satellite Image of Victoria
Name: Imagery/Raster_DBO_vic_mosaic1
Description: Satellite Image of Victoria
Single Fused Map Cache: false
Extent:
XMin: 1981922
YMin: 2246898
XMax: 2956262
YMax: 2856048
Spatial Reference: PROJCS["GDA94_ICSM_Lambert_Conformal_Conic",GEOGCS["GCS_GDA94_ICSM",DATUM["D_GDA94_ICSM",SPHEROID["GRS_1980",6378137.0,298.257222101]],PRIMEM["Greenwich",0.0],UNIT["Degree",0.0174532925199433]],PROJECTION["Lambert_Conformal_Conic"],PARAMETER["false_easting",2500000.0],PARAMETER["false_northing",2500000.0],PARAMETER["central_meridian",145.0],PARAMETER["standard_parallel_1",-36.0],PARAMETER["standard_parallel_2",-38.0],PARAMETER["latitude_of_origin",-37.0],UNIT["Meter",1.0]]
Initial Extent:
XMin: 1981922
YMin: 2246898
XMax: 2956262
YMax: 2856048
Spatial Reference: PROJCS["GDA94_ICSM_Lambert_Conformal_Conic",GEOGCS["GCS_GDA94_ICSM",DATUM["D_GDA94_ICSM",SPHEROID["GRS_1980",6378137.0,298.257222101]],PRIMEM["Greenwich",0.0],UNIT["Degree",0.0174532925199433]],PROJECTION["Lambert_Conformal_Conic"],PARAMETER["false_easting",2500000.0],PARAMETER["false_northing",2500000.0],PARAMETER["central_meridian",145.0],PARAMETER["standard_parallel_1",-36.0],PARAMETER["standard_parallel_2",-38.0],PARAMETER["latitude_of_origin",-37.0],UNIT["Meter",1.0]]
Full Extent:
XMin: 1981922
YMin: 2246898
XMax: 2956262
YMax: 2856048
Spatial Reference: PROJCS["GDA94_ICSM_Lambert_Conformal_Conic",GEOGCS["GCS_GDA94_ICSM",DATUM["D_GDA94_ICSM",SPHEROID["GRS_1980",6378137.0,298.257222101]],PRIMEM["Greenwich",0.0],UNIT["Degree",0.0174532925199433]],PROJECTION["Lambert_Conformal_Conic"],PARAMETER["false_easting",2500000.0],PARAMETER["false_northing",2500000.0],PARAMETER["central_meridian",145.0],PARAMETER["standard_parallel_1",-36.0],PARAMETER["standard_parallel_2",-38.0],PARAMETER["latitude_of_origin",-37.0],UNIT["Meter",1.0]]
Pixel Size X: 30.0
Pixel Size Y: 30.0
Band Count: 3
Pixel Type: U8
RasterFunction Infos: {"rasterFunctionInfos": [{
"name": "None",
"description": "",
"help": ""
}]}
Mensuration Capabilities: Basic
Has Histograms: false
Has Colormap: false
Has Multi Dimensions : false
Rendering Rule:
Min Scale: 0
Max Scale: 0
Copyright Text:
Service Data Type: esriImageServiceDataTypeRGB
Min Values: N/A
Max Values: N/A
Mean Values: N/A
Standard Deviation Values: N/A
Object ID Field:
Fields:
None
Default Mosaic Method: Center
Allowed Mosaic Methods:
SortField:
SortValue: null
Mosaic Operator: First
Default Compression Quality: 75
Default Resampling Method: Bilinear
Max Record Count: null
Max Image Height: 4100
Max Image Width: 15000
Max Download Image Count: null
Max Mosaic Image Count: null
Allow Raster Function: true
Allow Copy: null
Allow Analysis: null
Allow Compute TiePoints: false
Supports Statistics: false
Supports Advanced Queries: false
Use StandardizedQueries: true
Raster Type Infos:
Name: Raster Dataset
Description: Supports all ArcGIS Raster Datasets
Help:
Has Raster Attribute Table: false
Edit Fields Info: null
Ownership Based AccessControl For Rasters: null
Child Resources:
Info
Key Properties
Legend
Raster Function Infos
Supported Operations:
Export Image
Identify
Measure
Compute Histograms
Compute Statistics Histograms
Get Samples
Compute Class Statistics
Query Boundary
Compute Pixel Location
Compute Angles
Validate
Project