{
 "currentVersion": 10.91,
 "serviceDescription": "Satellite Image of Victoria",
 "name": "Imagery/Raster_DBO_vic_mosaic1",
 "description": "Satellite Image of Victoria",
 "extent": {
  "xmin": 1981922,
  "ymin": 2246898,
  "xmax": 2956262,
  "ymax": 2856048,
  "spatialReference": {
   "wkt": "PROJCS[\"GDA94_ICSM_Lambert_Conformal_Conic\",GEOGCS[\"GCS_GDA94_ICSM\",DATUM[\"D_GDA94_ICSM\",SPHEROID[\"GRS_1980\",6378137.0,298.257222101]],PRIMEM[\"Greenwich\",0.0],UNIT[\"Degree\",0.0174532925199433]],PROJECTION[\"Lambert_Conformal_Conic\"],PARAMETER[\"false_easting\",2500000.0],PARAMETER[\"false_northing\",2500000.0],PARAMETER[\"central_meridian\",145.0],PARAMETER[\"standard_parallel_1\",-36.0],PARAMETER[\"standard_parallel_2\",-38.0],PARAMETER[\"latitude_of_origin\",-37.0],UNIT[\"Meter\",1.0]]"
  }
 },
 "initialExtent": {
  "xmin": 1981922,
  "ymin": 2246898,
  "xmax": 2956262,
  "ymax": 2856048,
  "spatialReference": {
   "wkt": "PROJCS[\"GDA94_ICSM_Lambert_Conformal_Conic\",GEOGCS[\"GCS_GDA94_ICSM\",DATUM[\"D_GDA94_ICSM\",SPHEROID[\"GRS_1980\",6378137.0,298.257222101]],PRIMEM[\"Greenwich\",0.0],UNIT[\"Degree\",0.0174532925199433]],PROJECTION[\"Lambert_Conformal_Conic\"],PARAMETER[\"false_easting\",2500000.0],PARAMETER[\"false_northing\",2500000.0],PARAMETER[\"central_meridian\",145.0],PARAMETER[\"standard_parallel_1\",-36.0],PARAMETER[\"standard_parallel_2\",-38.0],PARAMETER[\"latitude_of_origin\",-37.0],UNIT[\"Meter\",1.0]]"
  }
 },
 "fullExtent": {
  "xmin": 1981922,
  "ymin": 2246898,
  "xmax": 2956262,
  "ymax": 2856048,
  "spatialReference": {
   "wkt": "PROJCS[\"GDA94_ICSM_Lambert_Conformal_Conic\",GEOGCS[\"GCS_GDA94_ICSM\",DATUM[\"D_GDA94_ICSM\",SPHEROID[\"GRS_1980\",6378137.0,298.257222101]],PRIMEM[\"Greenwich\",0.0],UNIT[\"Degree\",0.0174532925199433]],PROJECTION[\"Lambert_Conformal_Conic\"],PARAMETER[\"false_easting\",2500000.0],PARAMETER[\"false_northing\",2500000.0],PARAMETER[\"central_meridian\",145.0],PARAMETER[\"standard_parallel_1\",-36.0],PARAMETER[\"standard_parallel_2\",-38.0],PARAMETER[\"latitude_of_origin\",-37.0],UNIT[\"Meter\",1.0]]"
  }
 },
 "pixelSizeX": 30,
 "pixelSizeY": 30,
 "bandCount": 3,
 "pixelType": "U8",
 "minPixelSize": 0,
 "maxPixelSize": 0,
 "copyrightText": "",
 "serviceDataType": "esriImageServiceDataTypeRGB",
 "minValues": [],
 "maxValues": [],
 "meanValues": [],
 "stdvValues": [],
 "objectIdField": "",
 "fields": [],
 "capabilities": "Image,Metadata,Mensuration",
 "defaultMosaicMethod": "Center",
 "allowedMosaicMethods": "",
 "sortField": "",
 "sortValue": null,
 "sortAscending": true,
 "mosaicOperator": "First",
 "defaultCompressionQuality": 75,
 "defaultResamplingMethod": "Bilinear",
 "maxImageHeight": 4100,
 "maxImageWidth": 15000,
 "allowRasterFunction": true,
 "rasterFunctionInfos": [
  {
   "name": "None",
   "description": "",
   "help": ""
  }
 ],
 "rasterTypeInfos": [
  {
   "name": "Raster Dataset",
   "description": "Supports all ArcGIS Raster Datasets",
   "help": ""
  }
 ],
 "mensurationCapabilities": "Basic",
 "hasHistograms": false,
 "hasColormap": false,
 "hasRasterAttributeTable": false,
 "minScale": 0,
 "maxScale": 0,
 "exportTilesAllowed": false,
 "hasMultidimensions": false,
 "supportsStatistics": false,
 "supportsAdvancedQueries": false,
 "editFieldsInfo": null,
 "ownershipBasedAccessControlForRasters": null,
 "allowComputeTiePoints": false,
 "useStandardizedQueries": true,
 "advancedQueryCapabilities": {
  "useStandardizedQueries": true,
  "supportsStatistics": false,
  "supportsOrderBy": false,
  "supportsDistinct": false,
  "supportsPagination": false
 },
 "spatialReference": {
  "wkt": "PROJCS[\"GDA94_ICSM_Lambert_Conformal_Conic\",GEOGCS[\"GCS_GDA94_ICSM\",DATUM[\"D_GDA94_ICSM\",SPHEROID[\"GRS_1980\",6378137.0,298.257222101]],PRIMEM[\"Greenwich\",0.0],UNIT[\"Degree\",0.0174532925199433]],PROJECTION[\"Lambert_Conformal_Conic\"],PARAMETER[\"false_easting\",2500000.0],PARAMETER[\"false_northing\",2500000.0],PARAMETER[\"central_meridian\",145.0],PARAMETER[\"standard_parallel_1\",-36.0],PARAMETER[\"standard_parallel_2\",-38.0],PARAMETER[\"latitude_of_origin\",-37.0],UNIT[\"Meter\",1.0]]"
 }
}
